BEGIN:VCALENDAR
VERSION:2.0
PRODID:-//ChamberMaster//Event Calendar 2.0//EN
METHOD:PUBLISH
X-PUBLISHED-TTL:P3D
REFRESH-INTERVAL:P3D
CALSCALE:GREGORIAN
BEGIN:VEVENT
DTSTART:20260118T183000Z
DTEND:20260118T210000Z
X-MICROSOFT-CDO-ALLDAYEVENT:FALSE
SUMMARY:Diving Deeper
DESCRIPTION:Join submarine veteran Greg Miller on an in-depth tour aboard the USS COBIA! You can learn what it was really like living and working on a submarine with 80 other crew members for over two months at a time from someone who experienced a diesel boat\, just our very own COBIA. This two-hour tour focuses more on personal stories\, so feel free to ask Greg all of your submarine questions!\n\nThe cost is $35 for non-members and $30 for WMM Members. Space is limited\, so reservations are required. Reserve your tickets here: https://bit.ly/44leQVX\n\nPlease note that this tour is not recommended for children under 12 due to its length.
X-ALT-DESC;FMTTYPE=text/html:<p>Join submarine veteran Greg Miller on an in-depth tour aboard the USS COBIA! You can learn what it was really like living and working on a submarine with 80 other crew members for over two months at a time from someone who experienced a diesel boat\, just our very own COBIA. This two-hour tour focuses more on personal stories\, so feel free to ask Greg all of your submarine questions!</p>\n\n<p>The cost is $35 for non-members and $30 for WMM Members. Space is limited\, so reservations are required. Reserve your tickets here:&nbsp\;<a href="https://bit.ly/44leQVX?fbclid=IwZXh0bgNhZW0CMTAAYnJpZBExRTJiMnQ3Y0pjVWJLNDFJb3NydGMGYXBwX2lkEDIyMjAzOTE3ODgyMDA4OTIAAR6qcN-KHNBqIGDlNE1weI7sX0l0rv07GOckRi9IWSsekaWL4XlpRftoNoGPdQ_aem_Ra9VIq9A3WjLoL4WEzB5rw" style="box-sizing: border-box\; background: transparent\; color: rgb(0\, 148\, 215)\; text-decoration-line: none\;" target="_blank">https://bit.ly/44leQVX</a></p>\n\n<p>Please note that this tour is not recommended for children under 12 due to its length.</p>\n
LOCATION:
UID:e.361.20618
SEQUENCE:3
DTSTAMP:20260424T121025Z
URL:http://manitowoc.chambermaster.com/events/details/diving-deeper-20618
END:VEVENT

END:VCALENDAR
